BEGIN:VCALENDAR
VERSION:2.0
PRODID:-//ChamberMaster//Event Calendar 2.0//EN
METHOD:PUBLISH
X-PUBLISHED-TTL:P3D
REFRESH-INTERVAL:P3D
CALSCALE:GREGORIAN
BEGIN:VEVENT
DTSTART:20160605T160000Z
DTEND:20160605T210000Z
X-MICROSOFT-CDO-ALLDAYEVENT:FALSE
SUMMARY:Kid's Fishing
DESCRIPTION:Kid's Fishing 10am - 3pm\n\nCome join us at Davis Ponds for a fishing adventure! The ponds are stocked full of rainbows! Come play Backyard Bass to learn casting\, then join us at the pond for "reel" fishing! (All gear provided!)
X-ALT-DESC;FMTTYPE=text/html:<strong><span style="color:#008800">Kid&rsquo\;s Fishing 10am - 3pm</span></strong><br />\n<em>Come join us at Davis Ponds for a fishing adventure! The ponds are stocked full of rainbows! Come play Backyard Bass to learn casting\, then join us at the pond for &ldquo\;reel&rdquo\; fishing! (All gear provided!)</em>
LOCATION:Staunton State Park\, 12102 S Elk Creek Rd\, Pine CO 80470
UID:e.692.18836
SEQUENCE:3
DTSTAMP:20260421T222829Z
URL:https://business.goconifer.com/events/details/kid-s-fishing-06-05-2016-18836
END:VEVENT

END:VCALENDAR
