BEGIN:VCALENDAR
VERSION:2.0
PRODID:-//ChamberMaster//Event Calendar 2.0//EN
METHOD:PUBLISH
X-PUBLISHED-TTL:P3D
REFRESH-INTERVAL:P3D
CALSCALE:GREGORIAN
BEGIN:VEVENT
DTSTART:20160611T133000Z
DTEND:20160611T180000Z
X-MICROSOFT-CDO-ALLDAYEVENT:FALSE
SUMMARY:Keep Conifer Beautiful!
DESCRIPTION:It's time to pitch in and do our part to clean up the two mile stretch here in Aspen Park as Adopt-a-Highway sponsors. Grab your grubbies\, invite your family & neighbors! Many hands make light work.\n\nMandatory safety video for first-time participants:\n\nhttps://www.codot.gov/programs/adopt-a-highway/videos.html
X-ALT-DESC;FMTTYPE=text/html:It&#39\;s time to pitch in and do our part to clean up the two mile stretch here in Aspen Park as Adopt-a-Highway sponsors. Grab your grubbies\, invite your family &amp\; neighbors! Many hands make light work.<br />\nMandatory safety video for first-time participants:<br />\nhttps://www.codot.gov/programs/adopt-a-highway/videos.html<br />\n&nbsp\;
LOCATION:Meet at the Aspen Park RTD lot.
UID:e.692.18113
SEQUENCE:3
DTSTAMP:20260421T222428Z
URL:https://business.goconifer.com/events/details/keep-conifer-beautiful-06-11-2016-18113
END:VEVENT

END:VCALENDAR
