BEGIN:VCALENDAR
VERSION:2.0
PRODID:-//ChamberMaster//Event Calendar 2.0//EN
METHOD:PUBLISH
X-PUBLISHED-TTL:P3D
REFRESH-INTERVAL:P3D
CALSCALE:GREGORIAN
BEGIN:VEVENT
DTSTART:20140201T000000Z
DTEND:20140201T010000Z
X-MICROSOFT-CDO-ALLDAYEVENT:FALSE
SUMMARY:Justin Roberts Children's Concert
DESCRIPTION:Join Congregation Beth Evergreen & the Preschool at RMAE for a special family concert featuring Grammy-nominated children's musician Justin Roberts Tickets: $10/individual\; $20/family\, payable to CBE at the door. This event is open to the community.
X-ALT-DESC;FMTTYPE=text/html:Join Congregation Beth Evergreen &amp\; the Preschool at RMAE for a special family concert featuring Grammy-nominated children&#39\;s musician Justin Roberts Tickets: $10/individual\; $20/family\, payable to CBE at the door. This event is open to the community.
LOCATION:Congregation Beth Evergreen 2981 Bergen Peak Drive Evergreen\, CO 80439
UID:e.692.1762
SEQUENCE:3
DTSTAMP:20260423T195958Z
URL:https://business.goconifer.com/events/details/justin-roberts-children-s-concert-01-31-2014-1762
END:VEVENT

END:VCALENDAR
