BEGIN:VCALENDAR
VERSION:2.0
PRODID:-//ChamberMaster//Event Calendar 2.0//EN
METHOD:PUBLISH
X-PUBLISHED-TTL:P3D
REFRESH-INTERVAL:P3D
CALSCALE:GREGORIAN
BEGIN:VEVENT
DTSTART:20160712T220000Z
DTEND:20160713T000000Z
X-MICROSOFT-CDO-ALLDAYEVENT:FALSE
SUMMARY:Junior Scientist Workshop (FREE) Ages 4-7
DESCRIPTION:Join MindSpark Learning Community for this FREE workshop at Conifer Library all summer long!  Each week we will explore a different science theme.  There will be investigations\, take-home projects and lots of hands-on exploring activities! \n\n\n\nPlease check with the library or on MindSpark's website to confirm the week's session\, as there are a few dates with changes:  \n\nJune 14--NO WORKSHOP\n\nJune 28--WORKSHOP from 3-5 instead of 4-6\n\nJuly 5--NO WORKSHOP\n\nJuly 12--NO WORKSHOP
X-ALT-DESC;FMTTYPE=text/html:Join MindSpark Learning Community for this FREE workshop at Conifer Library all summer long! &nbsp\;Each week we will explore a different science theme. &nbsp\;There will be investigations\, take-home projects and lots of hands-on exploring activities!&nbsp\;<br />\n<br />\nPlease check with the library or on MindSpark&#39\;s website to confirm the week&#39\;s session\, as there are a few dates with changes: &nbsp\;<br />\nJune 14--NO WORKSHOP<br />\nJune 28--WORKSHOP from 3-5 instead of 4-6<br />\nJuly 5--NO WORKSHOP<br />\nJuly 12--NO WORKSHOP<br />\n&nbsp\;
LOCATION:Conifer Library
UID:e.692.18780
SEQUENCE:3
DTSTAMP:20260421T211225Z
URL:https://business.goconifer.com/events/details/junior-scientist-workshop-free-ages-4-7-07-12-2016-18780
END:VEVENT

END:VCALENDAR
