BEGIN:VCALENDAR
VERSION:2.0
PRODID:-//ChamberMaster//Event Calendar 2.0//EN
METHOD:PUBLISH
X-PUBLISHED-TTL:P3D
REFRESH-INTERVAL:P3D
CALSCALE:GREGORIAN
BEGIN:VEVENT
DTSTART:20160713T170000Z
DTEND:20160713T203000Z
X-MICROSOFT-CDO-ALLDAYEVENT:FALSE
SUMMARY:Junior Ranger Program
DESCRIPTION:Junior Ranger Program (Ages 6-14)\n\nJune 8\, 9\, 10\n\nJuly 13\, 14\, 15\n\nAug 3\, 4\, 5\n\nEach session includes a three day program held Wednesday\, Thursday\, and Friday 11-2:30pm\n\nThe program will introduce children to the natural wonders of the park\, hiking safety and their role in preserving nature for future generations. Please fill out an application and choose one of the summer sessions prior to the first day of the session. Applications can be picked up at the Park entrance or completed on line at the Staunton State Park web site: www.parks.state.co.us/parks/staunton/Pages/Staunton.aspx\n\nDrop your completed applications off at the entrance station station or email them to: annie.thran@state.co.us
X-ALT-DESC;FMTTYPE=text/html:<strong><span style="color:#008800">Junior Ranger Program (Ages 6-14)</span></strong><br />\nJune 8\, 9\, 10<br />\nJuly 13\, 14\, 15<br />\nAug 3\, 4\, 5<br />\n<strong>Each session includes a three day program held Wednesday\, Thursday\, and Friday 11-2:30pm</strong><br />\n<em>The program will introduce children to the natural wonders of the park\, hiking safety and their role in preserving nature for future generations. Please fill out an application and choose one of the summer sessions prior to the first day of the session. Applications can be picked up at the Park entrance or completed on line at the Staunton State Park web site:</em> <a class="bbcode_url" href="http://www.parks.state.co.us/parks/staunton/Pages/Staunton.aspx" rel="follow" target="_blank">www.parks.state.co.us/parks/staunton/Pages/Staunton.aspx</a><br />\n<em>Drop your completed applications off at the entrance station station or email them to: <a href="mailto:annie.thran@state.co.us">annie.thran@state.co.us</a></em>
LOCATION:Staunton State Park\, 12102 S Elk Creek Rd\, Pine CO 80470
UID:e.692.18856
SEQUENCE:3
DTSTAMP:20260421T193308Z
URL:https://business.goconifer.com/events/details/junior-ranger-program-07-13-2016-18856
END:VEVENT

END:VCALENDAR
