BEGIN:VCALENDAR
VERSION:2.0
PRODID:-//ChamberMaster//Event Calendar 2.0//EN
METHOD:PUBLISH
X-PUBLISHED-TTL:P3D
REFRESH-INTERVAL:P3D
CALSCALE:GREGORIAN
BEGIN:VEVENT
DTSTART:20140405T190000Z
DTEND:20140405T210000Z
X-MICROSOFT-CDO-ALLDAYEVENT:FALSE
SUMMARY:John Fielder: A Celebration of 50 Years of Colorado Wilderness
DESCRIPTION:The Jefferson County Historical Society and Hiwan Homestead Museum are excited to announce a special slide show presentation by John Fielder.  Fielder's presentation is part of a 2014 Colorado statewide tour to celebrate the 50th anniversary of America's Wilderness Act. The tour features a 75-minute slide show with over 200 of John's favorite wilderness images made in the past 40 years\, accompanied by beautiful music\, entitled A Celebration of 50 Years of Colorado Wilderness. Events include a book sale and signing of all of John's Colorado books and calendars\, including a new edition of his best-selling book Mountain Ranges of Colorado celebrating Wilderness 50\, and a special Colorado Wilderness 50 Poster. Thirty percent of book sales are returned to sponsoring non-profit organizations.
X-ALT-DESC;FMTTYPE=text/html:<p align="LEFT" style="margin-bottom: 0.2in"><span style="font-size:12px\;">The Jefferson County Historical Society and Hiwan Homestead Museum are excited to announce a special slide show presentation by John Fielder.&nbsp\; Fielder&rsquo\;s presentation is part of a 2014 Colorado statewide tour to celebrate the 50th anniversary of America&#39\;s Wilderness Act. The tour features a 75-minute slide show with over 200 of John&#39\;s favorite wilderness images made in the past 40 years\, accompanied by beautiful music\, entitled A Celebration of 50 Years of Colorado Wilderness. Events include a book sale and signing of all of John&rsquo\;s Colorado books and calendars\, including a new edition of his best-selling book&nbsp\;Mountain Ranges of Colorado&nbsp\;celebrating Wilderness 50\, and a special Colorado Wilderness 50 Poster. Thirty percent of book sales are returned to sponsoring non-profit organizations.</span></p>\n
LOCATION:The Place in Evergreen\, 27888 Meadow Drive\, Evergreen\, CO
UID:e.692.1948
SEQUENCE:3
DTSTAMP:20260423T160215Z
URL:https://business.goconifer.com/events/details/john-fielder-a-celebration-of-50-years-of-colorado-wilderness-04-05-2014-1948
END:VEVENT

END:VCALENDAR
