BEGIN:VCALENDAR
VERSION:2.0
PRODID:-//ChamberMaster//Event Calendar 2.0//EN
METHOD:PUBLISH
X-PUBLISHED-TTL:P3D
REFRESH-INTERVAL:P3D
CALSCALE:GREGORIAN
BEGIN:VEVENT
DTSTART:20140724T010000Z
DTEND:20140724T020000Z
X-MICROSOFT-CDO-ALLDAYEVENT:FALSE
SUMMARY:Joanne Greenberg: Author Talk - at Congregation Beth Evergreen
DESCRIPTION:Award-winning author Joanne Greenberg will give a talk on Wednesday\, July 23 at 7PM at Congregation Beth Evergreen.  Known for 'I Never Promised You a Rose Garden' and numerous other novels and collections of short stories\, she will speak about her career as an author\, inspirations\, changes in the world of publishing and answer questions from the audience.
X-ALT-DESC;FMTTYPE=text/html:Award-winning author Joanne Greenberg will give a talk on Wednesday\, July 23 at 7PM at Congregation Beth Evergreen. &nbsp\;Known for &#39\;I Never Promised You a Rose Garden&#39\; and numerous other novels and collections of short stories\, she will speak about her career as an author\, inspirations\, changes in the world of publishing and answer questions from the audience.
LOCATION:Congregation Beth Evergreen 2981 Bergen Peak Drive Evergreen\, CO 80439 (behind LifeCare Center of Evergreen)
UID:e.692.3253
SEQUENCE:3
DTSTAMP:20260423T104053Z
URL:https://business.goconifer.com/events/details/joanne-greenberg-author-talk-at-congregation-beth-evergreen-07-23-2014-3253
END:VEVENT

END:VCALENDAR
