BEGIN:VCALENDAR
VERSION:2.0
PRODID:-//ChamberMaster//Event Calendar 2.0//EN
METHOD:PUBLISH
X-PUBLISHED-TTL:P3D
REFRESH-INTERVAL:P3D
CALSCALE:GREGORIAN
BEGIN:VEVENT
DTSTART:20120825T150000Z
DTEND:20120825T190000Z
X-MICROSOFT-CDO-ALLDAYEVENT:FALSE
SUMMARY:Jefferson County District Attorney?s Safety Fair
DESCRIPTION:The Jefferson County District Attorney's Safety Fair is Saturday\, August 25\, 9:00-1:00 at the Jefferson County Fairgrounds. Free document shredding (limit 5 boxes)\, small electronics recycling\, prescription round-up\, bike rodeo for kids\, credit reports run on-site and bank officers available for consultation.  Over 80 booths with a complete range of safety services for the entire family. Free parking lot shuttle. For more information call 303-271-6970.
X-ALT-DESC;FMTTYPE=text/html:The Jefferson County District Attorney&rsquo\;s Safety Fair is Saturday\, August 25\, 9:00-1:00 at the Jefferson County Fairgrounds. Free document shredding (limit 5 boxes)\, small electronics recycling\, prescription round-up\, bike rodeo for kids\, credit reports run on-site and bank officers available for consultation.&nbsp\; Over 80 booths with a complete range of safety services for the entire family. Free parking lot shuttle. For more information call 303-271-6970.
LOCATION:Jefferson County Fairgrounds
UID:e.692.1316
SEQUENCE:3
DTSTAMP:20260424T184527Z
URL:https://business.goconifer.com/events/details/jefferson-county-district-attorney-s-safety-fair-08-25-2012-1316
END:VEVENT

END:VCALENDAR
