BEGIN:VCALENDAR
VERSION:2.0
PRODID:-//ChamberMaster//Event Calendar 2.0//EN
METHOD:PUBLISH
X-PUBLISHED-TTL:P3D
REFRESH-INTERVAL:P3D
CALSCALE:GREGORIAN
BEGIN:VEVENT
DTSTART:20160307T160000Z
DTEND:20160307T170000Z
X-MICROSOFT-CDO-ALLDAYEVENT:FALSE
SUMMARY:Jefferson County Assessor Discussion
DESCRIPTION:Do you have questions about your property tax bill? Part of the Chamber's role is to represent business interests with government. We have invited Ron Sandstrom\, Jeffco County Assessor\, to come to Evergreen to explain why property taxes went up or down this year. Many of you have questions-this is a Q&A not to miss. Monday\, March 7 9-10 am Evergreen Fire Rescue Auditorium 1802 Bergen Parkway\, Evergreen 80439 FREE and the public is invited
X-ALT-DESC;FMTTYPE=text/html:Do you have questions about your property tax bill? Part of the Chamber&#39\;s role is to represent business interests with government. We have invited Ron Sandstrom\, Jeffco County Assessor\, to come to Evergreen to explain why property taxes went up or down this year. Many of you have questions-this is a Q&amp\;A not to miss. Monday\, March 7 9-10 am Evergreen Fire Rescue Auditorium 1802 Bergen Parkway\, Evergreen 80439 FREE and the public is invited
LOCATION:Evergreen Fire Rescue Auditorium 1802 Bergen Parkway\, Evergreen 80439
UID:e.692.17123
SEQUENCE:3
DTSTAMP:20260422T023904Z
URL:https://business.goconifer.com/events/details/jefferson-county-assessor-discussion-03-07-2016-17123
END:VEVENT

END:VCALENDAR
