BEGIN:VCALENDAR
VERSION:2.0
PRODID:-//ChamberMaster//Event Calendar 2.0//EN
METHOD:PUBLISH
X-PUBLISHED-TTL:P3D
REFRESH-INTERVAL:P3D
CALSCALE:GREGORIAN
BEGIN:VEVENT
DTSTART:20141113T000000Z
DTEND:20141113T030000Z
X-MICROSOFT-CDO-ALLDAYEVENT:FALSE
SUMMARY:Jeffco Schools Foundation presents Hero Awards
DESCRIPTION:Please join us at the Hero Awards on Wednesday\, November 12\, 2014 at 5 p.m. at the Arvada Center. Tickets are $45 per person. Jeffco Public Schools employees and retirees are $25 per person. RSVP at www.regonline.com/heroawards before November 7th.\n\n \n\nThe Teacher Honorees:\n\n \n\nLaurin Haber-Cruz (5th Dual Language)\, Stein Elementary School\n\nScott Walker (8th Math)\, Wheat Ridge 5-8\n\nFrank Scaglione  (Art)\, Wheat Ridge High School\n\n \n\nStudent Honorees:\n\n \n\nDaniil Arushanov\, Alameda International\n\nCarina Wilson\, Jefferson High School\n\nEli Graham\, Two Roads Charter School\n\nHelen Castillo\, Wheat Ridge Higfh School
X-ALT-DESC;FMTTYPE=text/html:<span style="font-family:arial\,helvetica\,sans-serif\;"><span style="font-size: 14px\;">Please join us at the <strong>Hero Awards</strong> on Wednesday\, November 12\, 2014 at 5 p.m. at the Arvada Center. Tickets are $45 per person. Jeffco Public Schools employees and retirees are $25 per person. RSVP at <a href="http://www.regonline.com/heroawards">www.regonline.com/heroawards</a> before November 7<sup>th</sup>.<br />\n&nbsp\;<br />\n<strong>The Teacher Honorees:</strong><br />\n&nbsp\;<br />\n<strong><span style="color: black\;">Laurin Haber-Cruz (5th Dual Language)</span></strong><span style="color: black\;">\, Stein Elementary School</span><br />\n<strong><span style="color: black\;">Scott Walker (8th Math)</span></strong><span style="color: black\;">\, Wheat Ridge 5-8</span><br />\n<strong><span style="color: black\;">Frank Scaglione&nbsp\; (Art)</span></strong><span style="color: black\;">\, Wheat Ridge High School</span><br />\n&nbsp\;<br />\n<strong><span style="color: black\;">Student Honorees:</span></strong><br />\n&nbsp\;<br />\n<strong><span style="color: black\;">Daniil Arushanov</span></strong><span style="color: black\;">\, Alameda International</span><br />\n<strong><span style="color: black\;">Carina Wilson</span></strong><span style="color: black\;">\, Jefferson High School</span><br />\n<strong><span style="color: black\;">Eli Graham</span></strong><span style="color: black\;">\, Two Roads Charter School</span><br />\n<strong><span style="color: black\;">Helen Castillo</span></strong><span style="color: black\;">\, Wheat Ridge Higfh School</span></span></span>
LOCATION:Arvada Center for the Arts & Humanities
UID:e.692.5405
SEQUENCE:3
DTSTAMP:20260423T044444Z
URL:https://business.goconifer.com/events/details/jeffco-schools-foundation-presents-hero-awards-11-12-2014-5405
END:VEVENT

END:VCALENDAR
