BEGIN:VCALENDAR
VERSION:2.0
PRODID:-//ChamberMaster//Event Calendar 2.0//EN
METHOD:PUBLISH
X-PUBLISHED-TTL:P3D
REFRESH-INTERVAL:P3D
CALSCALE:GREGORIAN
BEGIN:VEVENT
DTSTART:20120628T230000Z
DTEND:20120629T010000Z
X-MICROSOFT-CDO-ALLDAYEVENT:FALSE
SUMMARY:Jeffco Chamber Joint Mixer
DESCRIPTION:Get To Know Your Neighboring Chambers at this annual mixer!
X-ALT-DESC;FMTTYPE=text/html:<span style="font-size: 16px">Get To Know Your Neighboring Chambers at this annual mixer!</span>
LOCATION:Ron Lewis's Barn at Evergreen Memorial Park 26624 N. Turkey Creek Road\, Evergreen
UID:e.692.1276
SEQUENCE:3
DTSTAMP:20260424T214006Z
URL:https://business.goconifer.com/events/details/jeffco-chamber-joint-mixer-06-28-2012-1276
END:VEVENT

END:VCALENDAR
