BEGIN:VCALENDAR
VERSION:2.0
PRODID:-//ChamberMaster//Event Calendar 2.0//EN
METHOD:PUBLISH
X-PUBLISHED-TTL:P3D
REFRESH-INTERVAL:P3D
CALSCALE:GREGORIAN
BEGIN:VEVENT
DTSTART:20121128T183000Z
DTEND:20121128T200000Z
X-MICROSOFT-CDO-ALLDAYEVENT:FALSE
SUMMARY:IREA Luncheon
DESCRIPTION:Conifer Chamber Hosts IREA Luncheon:\n\nPlease plan to attend a luncheon hosted by IREA to find out about energy costs\, renewable energy\, Comanche 3\, and legislative issues of importance to IREA members. LUNCH WILL BE PROVIDED FREE OF CHARGE BY IREA FOR CONIFER CHAMBER MEMBERS AND THEIR GUESTS.  This meeting will be held on November 28\, 2012\, at the Meadow Creek Bed & Breakfast Inn (13438 U.S. Highway 285) from 11:30 a.m. - 1:00 p.m. Please RSVP to Becki Duly at 303-688-3100\, ext. 207\, or by email to: BDuly@IREA.coop
X-ALT-DESC;FMTTYPE=text/html:<u>Conifer Chamber Hosts IREA Luncheon:</u><br />\nPlease plan to attend a luncheon hosted by IREA to find out about energy costs\, renewable energy\, Comanche 3\, and legislative issues of importance to IREA members. <span style="background-color: #ffff00">LUNCH WILL BE PROVIDED&nbsp\;FREE OF CHARGE&nbsp\;BY IREA FOR CONIFER CHAMBER MEMBERS AND THEIR GUESTS.</span>&nbsp\; This meeting will be held on November 28\, 2012\, at the Meadow Creek Bed &amp\; Breakfast Inn&nbsp\;(13438 U.S. Highway 285) from 11:30 a.m. - 1:00 p.m. Please RSVP to Becki Duly at 303-688-3100\, ext. 207\, or by email to: <a href="mailto:BDuly@IREA.coop">BDuly@IREA.coop</a><br />\n
LOCATION:Meadow Creek Bed & Breakfast Inn 13438 U.S. Highway 285
UID:e.692.1375
SEQUENCE:3
DTSTAMP:20260424T160306Z
URL:https://business.goconifer.com/events/details/irea-luncheon-11-28-2012-1375
END:VEVENT

END:VCALENDAR
