BEGIN:VCALENDAR
VERSION:2.0
PRODID:-//ChamberMaster//Event Calendar 2.0//EN
METHOD:PUBLISH
X-PUBLISHED-TTL:P3D
REFRESH-INTERVAL:P3D
CALSCALE:GREGORIAN
BEGIN:VEVENT
DTSTART:20160222T010000Z
DTEND:20160222T030000Z
X-MICROSOFT-CDO-ALLDAYEVENT:FALSE
SUMMARY:Introduction to Islam
DESCRIPTION:With the growing tide of anxiety & mistrust\, now is the time to ask:\n\nWhat is Islam?  Who are Muslims?  How are we connected?  Why should I care? \n\n \n\nJoin us for this unique opportunity to gain awareness & understanding about the worlds' second largest and fastest growing religion.  Learn basic facts about Islam and talk with local Muslims about their experiences in our Colorado community.  Facilitated by Russ Arnold\, Religious Studies Professor at Regis University.
X-ALT-DESC;FMTTYPE=text/html:<div>With the growing tide of anxiety &amp\; mistrust\, now is the time to ask:</div>\n\n<div>What is Islam? &nbsp\;Who are Muslims? &nbsp\;How are we connected? &nbsp\;Why should I care?&nbsp\;</div>\n\n<div>&nbsp\;</div>\n\n<div>Join us for this unique opportunity to gain awareness &amp\; understanding about the worlds&#39\; second largest and fastest growing religion. &nbsp\;Learn basic facts about Islam and talk with local Muslims about&nbsp\;their&nbsp\;experiences in our Colorado community. &nbsp\;Facilitated by&nbsp\;Russ Arnold\, Religious Studies Professor at Regis University.</div>\n
LOCATION:Congregation Beth Evergreen
UID:e.692.17069
SEQUENCE:3
DTSTAMP:20260422T020305Z
URL:https://business.goconifer.com/events/details/introduction-to-islam-02-21-2016-17069
END:VEVENT

END:VCALENDAR
