BEGIN:VCALENDAR
VERSION:2.0
PRODID:-//ChamberMaster//Event Calendar 2.0//EN
METHOD:PUBLISH
X-PUBLISHED-TTL:P3D
REFRESH-INTERVAL:P3D
CALSCALE:GREGORIAN
BEGIN:VEVENT
DTSTART:20160701T003000Z
DTEND:20160701T023000Z
X-MICROSOFT-CDO-ALLDAYEVENT:FALSE
SUMMARY:Introduction to Essential Oils
DESCRIPTION:Come and learn what essential oils are\, how to safely use them\, how to improve your health and well being!\n\n\n\nEveryone will receive free handouts and essential oil samples!
X-ALT-DESC;FMTTYPE=text/html:Come and learn what essential oils are\, how to safely use them\, how to improve your health and well being!<br />\n<br />\nEveryone will receive free handouts and essential oil samples!
LOCATION:Mountain View Acupuncture & Nutrition 460 Park County Rt. 43\, lower level\, in the rear of the building Bailey\, CO 80421
UID:e.692.18831
SEQUENCE:3
DTSTAMP:20260421T222551Z
URL:https://business.goconifer.com/events/details/introduction-to-essential-oils-06-30-2016-18831
END:VEVENT

END:VCALENDAR
