BEGIN:VCALENDAR
VERSION:2.0
PRODID:-//ChamberMaster//Event Calendar 2.0//EN
METHOD:PUBLISH
X-PUBLISHED-TTL:P3D
REFRESH-INTERVAL:P3D
CALSCALE:GREGORIAN
BEGIN:VEVENT
DTSTART:20160717T160000Z
DTEND:20160717T210000Z
X-MICROSOFT-CDO-ALLDAYEVENT:FALSE
SUMMARY:Interpreter's Table: Medicinal Plants and Hike at Staunton State Park
DESCRIPTION:Interpreter's Table\n\nMedicinal Plants 10a-3p\, Hike at 12pm\n\nLearn the historical uses and preparations of Mountain Wildflowers and other plants possibly used by Drs Rachael and Archibald Staunton!
X-ALT-DESC;FMTTYPE=text/html:Interpreter&rsquo\;s Table<br />\nMedicinal Plants 10a-3p\, Hike at 12pm<br />\nLearn the historical uses and preparations of Mountain Wildflowers and other plants possibly used by Drs Rachael and Archibald Staunton!
LOCATION:Staunton State Park\, 12102 S Elk Creek Rd\, Pine CO 80470
UID:e.692.18922
SEQUENCE:3
DTSTAMP:20260421T193652Z
URL:https://business.goconifer.com/events/details/interpreter-s-table-medicinal-plants-and-hike-at-staunton-state-park-07-17-2016-18922
END:VEVENT

END:VCALENDAR
