BEGIN:VCALENDAR
VERSION:2.0
PRODID:-//ChamberMaster//Event Calendar 2.0//EN
METHOD:PUBLISH
X-PUBLISHED-TTL:P3D
REFRESH-INTERVAL:P3D
CALSCALE:GREGORIAN
BEGIN:VEVENT
DTSTART:20140810T183000Z
DTEND:20140810T213000Z
X-MICROSOFT-CDO-ALLDAYEVENT:FALSE
SUMMARY:Intermountain Humane Society - Silent Auction
DESCRIPTION:Please join us for our biggest fundraiser of the year!\n\n\n\nTerrific silent auction items including:\n\n	Art\n	Gift Baskets\n	Gift Cards\n	Gift Certificates\n	Handmade Crafts\n	Services\n	Sport Memorabilia\n	Tickets to Events\n\n\n\nLive Music Performed by Sean Owens & Friends Acoustic\n\n\n\nLooking forward to seeing you there
X-ALT-DESC;FMTTYPE=text/html:Please join us for our biggest fundraiser of the year!<br />\n<br />\nTerrific silent auction items including:\n<ul>\n	<li>Art</li>\n	<li>Gift Baskets</li>\n	<li>Gift Cards</li>\n	<li>Gift Certificates</li>\n	<li>Handmade Crafts</li>\n	<li>Services</li>\n	<li>Sport Memorabilia</li>\n	<li>Tickets to Events</li>\n</ul>\n<br />\nLive Music Performed by Sean Owens &amp\; Friends Acoustic<br />\n<br />\nLooking forward to seeing you there
LOCATION:Greenfields Pool & Sports Bar 3355 South Yarrow Street\, Lakewood\, CO 80227
UID:e.692.3287
SEQUENCE:3
DTSTAMP:20260423T103925Z
URL:https://business.goconifer.com/events/details/intermountain-humane-society-silent-auction-08-10-2014-3287
END:VEVENT

END:VCALENDAR
