BEGIN:VCALENDAR
VERSION:2.0
PRODID:-//ChamberMaster//Event Calendar 2.0//EN
METHOD:PUBLISH
X-PUBLISHED-TTL:P3D
REFRESH-INTERVAL:P3D
CALSCALE:GREGORIAN
BEGIN:VEVENT
DTSTART:20160123T160000Z
DTEND:20160123T170000Z
X-MICROSOFT-CDO-ALLDAYEVENT:FALSE
SUMMARY:Interfaith Book Study
DESCRIPTION:Congregation Beth Evergreen\, in partnership with The Sanctuary\, Foothills Center for Spiritual Living\, and Jefferson Unitarian Church\, presents a monthly Interfaith Book study. The text is Judaism's Ten Best Ideas: A Brief Guide for Seekers by Arthur Green\; each month we go through a different idea in the book. This month's topic is "The Secret of the Sabbath."
X-ALT-DESC;FMTTYPE=text/html:Congregation Beth Evergreen\, in partnership with&nbsp\;The Sanctuary\, Foothills Center for Spiritual Living\, and Jefferson Unitarian Church\, presents a monthly Interfaith Book study. The text is&nbsp\;<em>Judaism&rsquo\;s Ten Best Ideas: A Brief Guide for Seekers</em> by Arthur Green\; each month we go through a different idea in the book. This month&#39\;s topic is &quot\;The Secret of the Sabbath.&quot\;
LOCATION:Congregation Beth Evergreen
UID:e.692.16425
SEQUENCE:3
DTSTAMP:20260422T032125Z
URL:https://business.goconifer.com/events/details/interfaith-book-study-01-23-2016-16425
END:VEVENT

END:VCALENDAR
