BEGIN:VCALENDAR
VERSION:2.0
PRODID:-//ChamberMaster//Event Calendar 2.0//EN
METHOD:PUBLISH
X-PUBLISHED-TTL:P3D
REFRESH-INTERVAL:P3D
CALSCALE:GREGORIAN
BEGIN:VEVENT
DTSTART:20100728T233000Z
DTEND:20100729T013000Z
X-MICROSOFT-CDO-ALLDAYEVENT:FALSE
SUMMARY:Incline Young Professionals V.I.P Section at Evergreen Lake Summer Concert
DESCRIPTION:Join Evergreen Young Professionals for a V.I.P. experience at the July 28th Evergreen Summer Lake Concert.  Matt Clark Bank & Strike III will be performing!
X-ALT-DESC;FMTTYPE=text/html:Join Evergreen Young Professionals for a V.I.P. experience at the July 28th Evergreen Summer Lake Concert.  Matt Clark Bank &amp\; Strike III will be performing!
LOCATION:Evergreen Lake
UID:e.692.580
SEQUENCE:3
DTSTAMP:20260424T142102Z
URL:https://business.goconifer.com/events/details/incline-young-professionals-v-i-p-section-at-evergreen-lake-summer-concert-07-28-2010-580
END:VEVENT

END:VCALENDAR
