BEGIN:VCALENDAR
VERSION:2.0
PRODID:-//ChamberMaster//Event Calendar 2.0//EN
METHOD:PUBLISH
X-PUBLISHED-TTL:P3D
REFRESH-INTERVAL:P3D
CALSCALE:GREGORIAN
BEGIN:VEVENT
DTSTART:20100923T230000Z
DTEND:20100924T010000Z
X-MICROSOFT-CDO-ALLDAYEVENT:FALSE
SUMMARY:Incline Young Professionals Present:: Sneak Preview & Social Event
DESCRIPTION:~Paint\, Sculpt & Shoot Plein Air Exhibit~\n\nOpening September 24\, special preview for Incline Members & Guests
X-ALT-DESC;FMTTYPE=text/html:~Paint\, Sculpt &amp\; Shoot Plein Air Exhibit~\n<br>Opening September 24\, special preview for Incline Members &amp\; Guests\n<br>
LOCATION:Center for the Arts Evergreen
UID:e.692.787
SEQUENCE:3
DTSTAMP:20260424T170719Z
URL:https://business.goconifer.com/events/details/incline-young-professionals-present-sneak-preview-social-event-09-23-2010-787
END:VEVENT

END:VCALENDAR
