BEGIN:VCALENDAR
VERSION:2.0
PRODID:-//ChamberMaster//Event Calendar 2.0//EN
METHOD:PUBLISH
X-PUBLISHED-TTL:P3D
REFRESH-INTERVAL:P3D
CALSCALE:GREGORIAN
BEGIN:VEVENT
DTSTART:20110226T180000Z
DTEND:20110227T030000Z
X-MICROSOFT-CDO-ALLDAYEVENT:FALSE
SUMMARY:Ice Carving Festival
DESCRIPTION:Watch as blocks of ice are transformed into works of art!
X-ALT-DESC;FMTTYPE=text/html:<p>\n	Watch as blocks of ice are transformed into works of art!</p>\n
LOCATION:Raven's Tavern (near King Soopers and Wendy's) 25577 Conifer Road\, Suite 100 Conifer\, CO 80433
UID:e.692.1119
SEQUENCE:3
DTSTAMP:20260425T021207Z
URL:https://business.goconifer.com/events/details/ice-carving-festival-02-26-2011-1119
END:VEVENT

END:VCALENDAR
