BEGIN:VCALENDAR
VERSION:2.0
PRODID:-//ChamberMaster//Event Calendar 2.0//EN
METHOD:PUBLISH
X-PUBLISHED-TTL:P3D
REFRESH-INTERVAL:P3D
CALSCALE:GREGORIAN
BEGIN:VEVENT
DTSTART:20150323T233000Z
DTEND:20150324T010000Z
X-MICROSOFT-CDO-ALLDAYEVENT:FALSE
SUMMARY:How to Market Your Business via Twitter - Tips and Strategies for Success
DESCRIPTION:For the beginner or intermediate Twitter user\, we'll review the basics - settings\, Profile Pictures\, cover photos\, how to find people of interest to follow\, hashtags - what are they and how to use them\, and how to post. Then we'll dig a little deeper into types of content\, strategies of when to post & how often\, what NOT to do\, and best practices for success.\n\n\n\nBring your laptops\, and snacks/food if you wish! This will be a hands-on learning experience - we learn best by doing so we'll practice!
X-ALT-DESC;FMTTYPE=text/html:For the beginner or intermediate Twitter user\, we&#39\;ll review the basics - settings\, Profile Pictures\, cover photos\, how to find people of interest to follow\, hashtags - what are they and how to use them\, and how to post. Then we&#39\;ll dig a little deeper into types of content\, strategies of when to post &amp\; how often\, what NOT to do\, and best practices for success.<br />\n<br />\nBring your laptops\, and snacks/food if you wish! This will be a hands-on learning experience - we learn best by doing so we&#39\;ll practice!
LOCATION:Conifer Community Church
UID:e.692.8810
SEQUENCE:3
DTSTAMP:20260422T191152Z
URL:https://business.goconifer.com/events/details/how-to-market-your-business-via-twitter-tips-and-strategies-for-success-03-23-2015-8810
END:VEVENT

END:VCALENDAR
