BEGIN:VCALENDAR
VERSION:2.0
PRODID:-//ChamberMaster//Event Calendar 2.0//EN
METHOD:PUBLISH
X-PUBLISHED-TTL:P3D
REFRESH-INTERVAL:P3D
CALSCALE:GREGORIAN
BEGIN:VEVENT
DTSTART:20100617T190000Z
DTEND:20100729T210000Z
X-MICROSOFT-CDO-ALLDAYEVENT:FALSE
SUMMARY:How to Feed Your Family for Less & Get More
DESCRIPTION:In partnership with Operation Frontline MRC is offering a free budget friendly 6 week nutrition course. Learn how to save money\, time and cook tasty nutricious meals. The course features professional chefs and nutritionists. Call now to reserve your space.
X-ALT-DESC;FMTTYPE=text/html:In partnership with Operation Frontline MRC is offering a free budget friendly 6 week nutrition course. Learn how to save money\, time and cook tasty nutricious meals. The course features professional chefs and nutritionists. Call now to reserve your space.
LOCATION:Mountain Resource Center
UID:e.692.434
SEQUENCE:3
DTSTAMP:20260424T130751Z
URL:https://business.goconifer.com/events/details/how-to-feed-your-family-for-less-get-more-06-17-2010-434
END:VEVENT

END:VCALENDAR
