BEGIN:VCALENDAR
VERSION:2.0
PRODID:-//ChamberMaster//Event Calendar 2.0//EN
METHOD:PUBLISH
X-PUBLISHED-TTL:P3D
REFRESH-INTERVAL:P3D
CALSCALE:GREGORIAN
BEGIN:VEVENT
DTSTART:20131119T141500Z
DTEND:20131119T160000Z
X-MICROSOFT-CDO-ALLDAYEVENT:FALSE
SUMMARY:How To Appraise Your Business in 60 Minutes (Breakfast For Your Brain)
DESCRIPTION:It may not be something you have thought about lately\, but do you know the value of your business?  Learn more at this workshop by Glen Cooper: How To Appraise Your Business in 60 Minutes.
X-ALT-DESC;FMTTYPE=text/html:It may not be something you have thought about lately\, but do you know the value of your business?&nbsp\; Learn more at this workshop by Glen Cooper: How To Appraise Your Business in 60 Minutes.
LOCATION:Conifer Community Church Classroom (park in front or back of church) 9998 S. Havekost Conifer\, CO 80433 This is the church by ACE Hardware.
UID:e.692.1537
SEQUENCE:3
DTSTAMP:20260423T212815Z
URL:https://business.goconifer.com/events/details/how-to-appraise-your-business-in-60-minutes-breakfast-for-your-brain-11-19-2013-1537
END:VEVENT

END:VCALENDAR
