BEGIN:VCALENDAR
VERSION:2.0
PRODID:-//ChamberMaster//Event Calendar 2.0//EN
METHOD:PUBLISH
X-PUBLISHED-TTL:P3D
REFRESH-INTERVAL:P3D
CALSCALE:GREGORIAN
BEGIN:VEVENT
DTSTART:20140712T190000Z
DTEND:20140830T220000Z
X-MICROSOFT-CDO-ALLDAYEVENT:FALSE
SUMMARY:Horse Drawn Trolley Ride
DESCRIPTION:Take a FREE ride on the horse-drawn Evergreen Town Trolley. It's a great way to spend the day in one of Colorado's most enjoyable mountain retreats. Not only will you have a lovely ride through the heart of Evergreen\, trolley riders recieve terrific discounts at many of the local merchants. No need for reservations! Just come on up and hope aboard!
X-ALT-DESC;FMTTYPE=text/html:Take a FREE ride on the horse-drawn Evergreen Town Trolley. It&#39\;s a great way to spend the day in one of Colorado&#39\;s most enjoyable mountain retreats. Not only will you have a lovely ride through the heart of Evergreen\, trolley riders recieve terrific discounts at many of the local merchants. No need for reservations! Just come on up and hope aboard!
LOCATION:Downtown Evergreen
UID:e.692.3042
SEQUENCE:3
DTSTAMP:20260423T092526Z
URL:https://business.goconifer.com/events/details/horse-drawn-trolley-ride-07-12-2014-3042
END:VEVENT

END:VCALENDAR
