BEGIN:VCALENDAR
VERSION:2.0
PRODID:-//ChamberMaster//Event Calendar 2.0//EN
METHOD:PUBLISH
X-PUBLISHED-TTL:P3D
REFRESH-INTERVAL:P3D
CALSCALE:GREGORIAN
BEGIN:VEVENT
DTSTART:20250327T230000Z
DTEND:20250328T010000Z
X-MICROSOFT-CDO-ALLDAYEVENT:FALSE
SUMMARY:Home Services Power Team- Pizza making party
DESCRIPTION:Join us for the Home Services Pizza Making Party Hosted by Audra Iori of Rate Mortgage Lending!  The event will be open to the first 20 RSVPs to ensure we have plenty of space in the kitchen so don't wait to get registered.\n\n\n\nThe Home Service Power Team is a collaborative network of industry professionals dedicated to providing comprehensive home services. From electricians and plumbers to real estate agents and interior designers\, this dynamic team not only delivers top-notch services but also actively builds a robust referral network\, ensuring homeowners have access to a trusted and reliable resource for all their home needs.
X-ALT-DESC;FMTTYPE=text/html:<strong><span style="font-family:arial\;"><span style="font-size:16px\;"><span style="color: rgb(55\, 65\, 81)\; white-space-collapse: preserve\;">Join us for the Home Services Pizza Making Party Hosted by Audra Iori of Rate Mortgage Lending! </span><span style="color: rgb(34\, 34\, 34)\;">&nbsp\;The event will be open to the first 20 RSVPs to ensure we have plenty of space in the kitchen so don&#39\;t wait to get registered.</span></span></span></strong><br />\n<br />\n<span style="color: rgb(55\, 65\, 81)\; font-family: Söhne\, ui-sans-serif\, system-ui\, -apple-system\, &quot\;Segoe UI&quot\;\, Roboto\, Ubuntu\, Cantarell\, &quot\;Noto Sans&quot\;\, sans-serif\, &quot\;Helvetica Neue&quot\;\, Arial\, &quot\;Apple Color Emoji&quot\;\, &quot\;Segoe UI Emoji&quot\;\, &quot\;Segoe UI Symbol&quot\;\, &quot\;Noto Color Emoji&quot\;\; font-size: 16px\; white-space-collapse: preserve\;">The Home Service Power Team is a collaborative network of industry professionals dedicated to providing comprehensive home services. From electricians and plumbers to real estate agents and interior designers\, this dynamic team not only delivers top-notch services but also actively builds a robust referral network\, ensuring homeowners have access to a trusted and reliable resource for all their home needs.</span>
LOCATION:Ripple Pizza 26412 Main Street Conifer\, CO 80433
UID:e.692.46117
SEQUENCE:3
DTSTAMP:20260426T011910Z
URL:https://business.goconifer.com/events/details/home-services-power-team-pizza-making-party-46117
END:VEVENT

END:VCALENDAR
