BEGIN:VCALENDAR
VERSION:2.0
PRODID:-//ChamberMaster//Event Calendar 2.0//EN
METHOD:PUBLISH
X-PUBLISHED-TTL:P3D
REFRESH-INTERVAL:P3D
CALSCALE:GREGORIAN
BEGIN:VEVENT
DTSTART:20250605T230000Z
DTEND:20250606T010000Z
X-MICROSOFT-CDO-ALLDAYEVENT:FALSE
SUMMARY:Home Services Power Team
DESCRIPTION:Join us for this meeting and potluck! Beverages are provided so you just need to bring a dish to share.\n\n\n\nThe Home Service Power Team is a collaborative network of industry professionals dedicated to providing comprehensive home services. From electricians and plumbers to real estate agents and interior designers\, this dynamic team not only delivers top-notch services but also actively builds a robust referral network\, ensuring homeowners have access to a trusted and reliable resource for all their home needs.
X-ALT-DESC;FMTTYPE=text/html:<span style="color: rgb(55\, 65\, 81)\; font-family: Söhne\, ui-sans-serif\, system-ui\, -apple-system\, &quot\;Segoe UI&quot\;\, Roboto\, Ubuntu\, Cantarell\, &quot\;Noto Sans&quot\;\, sans-serif\, &quot\;Helvetica Neue&quot\;\, Arial\, &quot\;Apple Color Emoji&quot\;\, &quot\;Segoe UI Emoji&quot\;\, &quot\;Segoe UI Symbol&quot\;\, &quot\;Noto Color Emoji&quot\;\; font-size: 16px\; white-space-collapse: preserve\;">Join us for this meeting and potluck! Beverages are provided so you just need to bring a dish to share.<br />\n<br />\nThe Home Service Power Team is a collaborative network of industry professionals dedicated to providing comprehensive home services. From electricians and plumbers to real estate agents and interior designers\, this dynamic team not only delivers top-notch services but also actively builds a robust referral network\, ensuring homeowners have access to a trusted and reliable resource for all their home needs.</span>
LOCATION:Host\; June McKenzie ReMax 25577 Conifer Road Suite 201 Conifer\, CO 80433
UID:e.692.46119
SEQUENCE:3
DTSTAMP:20260425T195925Z
URL:https://business.goconifer.com/events/details/home-services-power-team-06-05-2025-46119
END:VEVENT

END:VCALENDAR
