BEGIN:VCALENDAR
VERSION:2.0
PRODID:-//ChamberMaster//Event Calendar 2.0//EN
METHOD:PUBLISH
X-PUBLISHED-TTL:P3D
REFRESH-INTERVAL:P3D
CALSCALE:GREGORIAN
BEGIN:VEVENT
DTSTART:20250620T180000Z
DTEND:20250622T000000Z
X-MICROSOFT-CDO-ALLDAYEVENT:FALSE
SUMMARY:Holy Hand-Me-Downs & Vintage Estate Items Rummage Sale
DESCRIPTION:Risen Lord Lutheran Church\, on behalf of St. Laurence Episcopal Church\, would like to announce:\n\n\n\nA Church-wide Rummage Sale. All proceeds will go to St. Laurence Episcopal Church\, which shares their building with Risen Lord Lutheran Church.\n\n\n\nThe dates will be:\n\nFriday   June 20th [12 noon to 6:00 pm]\n\nand\n\nSaturday   June 21st [9:00 am to 6:00 pm]\n\n\n\nBe selective about what they are willing to donate. All items should be clean and fully operational\, with no loose\, broken\, or missing parts. We also ask that you bring your items to the church\, beginning on Thursday evening\,\n\nYou can bring them on June 19th and drop them off in the parking lot near the water storage tank. Or you can bring them on Friday morning\, beginning at 9:00 a.m.\n\n\n\nIf they are on a trailer\, you can leave them on the trailer and cover them with a tarp. Otherwise\, stack them neatly in a group\, cover them with a tarp\, and secure the tarp so nothing blows away. It would be helpful if everyone who donates could bring at least one table\, and that all items be priced beforehand.\n\n\n\nThis event will be held outside\, and there is no "Plan B". So pray for good weather!!!\n\n\n\nThe following items are desirable:\n\nTOOLS\n\nFURNITURE\n\nCLOTHES\n\nSPORTING GOODS\n\nHOUSEHOLD GOODS\n\nBOOKS\n\n\n\nThe following items are undesirable:\n\nELECTRONICS\n\nLARGE APPLIANCES\n\nLARGE\, HEAVY FURNITURE\n\nANYTHING THAT WOULD INVOLVE DISPOSAL FEES IF NOT SOLD\n\n\n\nPlease assume custody of the items you donate. Once the sale is over\, be willing to remove any items that don't sell\, preferably no later than Sunday by 9 a.m.
X-ALT-DESC;FMTTYPE=text/html:Risen Lord Lutheran Church\, on behalf of St. Laurence Episcopal Church\, would like to announce:<br />\n<br />\nA Church-wide Rummage Sale. All proceeds will go to St. Laurence Episcopal Church\, which shares their building with Risen Lord Lutheran Church.<br />\n<br />\nThe dates will be:<br />\nFriday &ndash\; June 20th [12 noon to 6:00 pm]<br />\nand<br />\nSaturday &ndash\; June 21st [9:00 am to 6:00 pm]<br />\n<br />\nBe selective about what they are willing to donate. All items should be clean and fully operational\, with no loose\, broken\, or missing parts. We also ask that you bring your items to the church\, beginning on Thursday evening\,<br />\nYou can bring them on June 19th and drop them off in the parking lot near the water storage tank. Or you can bring them on Friday morning\, beginning at 9:00 a.m.<br />\n<br />\nIf they are on a trailer\, you can leave them on the trailer and cover them with a tarp. Otherwise\, stack them neatly in a group\, cover them with a tarp\, and secure the tarp so nothing blows away. It would be helpful if everyone who donates could bring at least one table\,&nbsp\;and that all items be priced beforehand.<br />\n<br />\nThis event will be held outside\, and there is no &ldquo\;Plan B&rdquo\;. So pray for good weather!!!<br />\n<br />\nThe following items are desirable:<br />\nTOOLS<br />\nFURNITURE<br />\nCLOTHES<br />\nSPORTING GOODS<br />\nHOUSEHOLD GOODS<br />\nBOOKS<br />\n<br />\nThe following items are undesirable:<br />\nELECTRONICS<br />\nLARGE APPLIANCES<br />\nLARGE\, HEAVY FURNITURE<br />\nANYTHING THAT WOULD INVOLVE DISPOSAL FEES IF NOT SOLD<br />\n<br />\nPlease assume custody of the items you donate. Once the sale is over\, be willing to remove any items that don&rsquo\;t sell\, preferably no later than Sunday by 9 a.m.
LOCATION:26812 Barkley Road Conifer\, CO 80433
UID:e.692.47108
SEQUENCE:3
DTSTAMP:20260425T200220Z
URL:https://business.goconifer.com/events/details/holy-hand-me-downs-vintage-estate-items-rummage-sale-47108
END:VEVENT

END:VCALENDAR
