BEGIN:VCALENDAR
VERSION:2.0
PRODID:-//ChamberMaster//Event Calendar 2.0//EN
METHOD:PUBLISH
X-PUBLISHED-TTL:P3D
REFRESH-INTERVAL:P3D
CALSCALE:GREGORIAN
BEGIN:VEVENT
DTSTART:20131123T233000Z
DTEND:20131124T030000Z
X-MICROSOFT-CDO-ALLDAYEVENT:FALSE
SUMMARY:Holiday Wine Tasting\, Decadent Desserts and Festival of Trees!
DESCRIPTION:Join us for the Thirteenth Annual Holiday Wine Tasting!\n\nThis event also includes fine foods\, decadent desserts\, a silent auction\, and a festival of trees.
X-ALT-DESC;FMTTYPE=text/html:Join us for the Thirteenth&nbsp\;Annual Holiday Wine Tasting!<br />\nThis event also includes fine foods\, decadent desserts\, a silent auction\, and a festival of trees.
LOCATION:The Barn at Evergreen Memorial Park 26624 N Turkey Creek Rd. Evergreen\, CO 80439
UID:e.692.1507
SEQUENCE:3
DTSTAMP:20260423T212821Z
URL:https://business.goconifer.com/events/details/holiday-wine-tasting-decadent-desserts-and-festival-of-trees-11-23-2013-1507
END:VEVENT

END:VCALENDAR
