BEGIN:VCALENDAR
VERSION:2.0
PRODID:-//ChamberMaster//Event Calendar 2.0//EN
METHOD:PUBLISH
X-PUBLISHED-TTL:P3D
REFRESH-INTERVAL:P3D
CALSCALE:GREGORIAN
BEGIN:VEVENT
DTSTART:20211212T190000Z
DTEND:20211212T230000Z
X-MICROSOFT-CDO-ALLDAYEVENT:FALSE
SUMMARY:Holiday Stroll
DESCRIPTION:We are having our final\, promoted event for the 2021 Season on Sunday\, December 12th\, from noon until 4PM. This is our annual HOLIDAY STROLL. In this event\, the community is encouraged to wander through the shops and booths\, meet the artists and vendors\, and   perhaps   find something special.  After completing their punch card\, customers are entered into the Grand Prize drawing (NO purchase is required to enter this drawing). We offer FREE refreshments\, seasonal hot beverages\, live music\, and more! Neighbors and friends meet and mingle in a warm\, friendly environment. It feels like an old-time town at Christmas time! We have personal shoppers available to help find that perfect gift! And\, of course\, we have FREE gift wrapping!
X-ALT-DESC;FMTTYPE=text/html:<span style="color:rgb(0\,0\,0)\; font-family:verdana\; font-size:10pt"><strong>We are having our final\, promoted event for the 2021 Season on Sunday\, December 12th\, from noon until 4PM. This is our annual HOLIDAY STROLL. In this event\, the community is encouraged to wander through the shops and booths\, meet the artists and vendors\, and &ndash\; perhaps &ndash\; find something special. &nbsp\;After completing their punch card\, customers are entered into the Grand Prize drawing <em>(NO purchase is required to enter this drawing</em>). We offer FREE refreshments\, seasonal hot beverages\, live music\, and more! Neighbors and friends meet and mingle in a warm\, friendly environment. It feels like an old-time town at Christmas time! We have personal shoppers available to help find that perfect gift! And\, of course\, we have FREE gift wrapping!</strong></span>
LOCATION:King's Emporium & Mercantile
UID:e.692.34226
SEQUENCE:3
DTSTAMP:20260424T153036Z
URL:https://business.goconifer.com/events/details/holiday-stroll-12-12-2021-34226
END:VEVENT

END:VCALENDAR
