BEGIN:VCALENDAR
VERSION:2.0
PRODID:-//ChamberMaster//Event Calendar 2.0//EN
METHOD:PUBLISH
X-PUBLISHED-TTL:P3D
REFRESH-INTERVAL:P3D
CALSCALE:GREGORIAN
BEGIN:VEVENT
DTSTART:20121109T003000Z
DTEND:20121109T030000Z
X-MICROSOFT-CDO-ALLDAYEVENT:FALSE
SUMMARY:Holiday Season Fashion Show
DESCRIPTION:Bits & Pieces Boutique hosts this event to benefit Mountain Area Land Trust.  Admission of $15 is a donation to MALT and your chance to see the latest in fall\, winter and holiday fashions!  Tickets must be purchased in advance by calling (303) 679-0950 or call or visit Bits & Pieces.  Hors d'oeuvres & drinks at 5:30pm\, Style show at 6:15pm.
X-ALT-DESC;FMTTYPE=text/html:Bits &amp\; Pieces Boutique hosts this event to benefit Mountain Area Land Trust.&nbsp\; Admission of $15 is a donation to MALT and your chance to see the latest in fall\, winter and holiday fashions!&nbsp\; Tickets must be purchased in advance by calling (303) 679-0950 or call or visit Bits &amp\; Pieces.&nbsp\; Hors d&#39\;oeuvres &amp\; drinks at 5:30pm\, Style show at 6:15pm.
LOCATION:Bits & Pieces Boutique at Bergen Village Evergreen\, CO 80439
UID:e.692.1372
SEQUENCE:3
DTSTAMP:20260424T145427Z
URL:https://business.goconifer.com/events/details/holiday-season-fashion-show-11-08-2012-1372
END:VEVENT

END:VCALENDAR
