BEGIN:VCALENDAR
VERSION:2.0
PRODID:-//ChamberMaster//Event Calendar 2.0//EN
METHOD:PUBLISH
X-PUBLISHED-TTL:P3D
REFRESH-INTERVAL:P3D
CALSCALE:GREGORIAN
BEGIN:VEVENT
DTSTART;VALUE=DATE:20131111
DTEND;VALUE=DATE:20131208
TRANSP:TRANSPARENT
X-MICROSOFT-CDO-ALLDAYEVENT:TRUE
SUMMARY:Holiday Raffle ($1\,000 Cash prize)
DESCRIPTION:Tickets for the Holiday Raffle are on sale from Conifer Chamber of Commerce board members\, and at the following locations:\n\n\n\nAngela Bassano's hair salon\n\nBrooks Place Tavern\n\nGrow Your Own Herbs/Aspen Peak Cellars Winery Tasting Room\n\nLook What I Found Boutique\n\nLuna's Mandala\n\nMutual of Omaha Bank
X-ALT-DESC;FMTTYPE=text/html:<br />\nTickets for the Holiday Raffle are on sale from Conifer Chamber of Commerce board members\, and at the following locations:<br />\n<br />\nAngela Bassano&#39\;s hair salon<br />\nBrooks Place Tavern<br />\nGrow Your Own Herbs/Aspen Peak Cellars Winery Tasting Room<br />\nLook What I Found Boutique<br />\nLuna&#39\;s Mandala<br />\nMutual of Omaha Bank
LOCATION:The cash prize winner will be announced at 3:30p from the Conifer Christmas Parade Stage (on Sutton Road)
UID:e.692.1596
SEQUENCE:3
DTSTAMP:20260423T212632Z
URL:https://business.goconifer.com/events/details/holiday-raffle-1-000-cash-prize-11-11-2013-1596
END:VEVENT

END:VCALENDAR
