BEGIN:VCALENDAR
VERSION:2.0
PRODID:-//ChamberMaster//Event Calendar 2.0//EN
METHOD:PUBLISH
X-PUBLISHED-TTL:P3D
REFRESH-INTERVAL:P3D
CALSCALE:GREGORIAN
BEGIN:VEVENT
DTSTART:20121103T150000Z
DTEND:20121103T150000Z
X-MICROSOFT-CDO-ALLDAYEVENT:FALSE
SUMMARY:Holiday Mail for Heroes
DESCRIPTION:Each year the American Red Cross collects cards between October and early December and then distributes them at military installations\, veterans hospitals\, and in other locations wherever the U.S. Armed Forces can be found. The cards and personal messages\, sent by tens of thousands of Americans\, provide a welcome "touch of home" for our troops during the holiday season.\n\n\n\nThis year\, for the first time\, the American Red Cross will have a table set up for mountain-area residents to bring in cards to send\, sign cards on-site or make an original card to send to our troops at St. Laurence Episcopal Church\, 26812 Barkley Road\, Conifer\, from 9 a.m. to 3 p.m. on Saturday\, November 3 in conjunction with the church's ChristmasFest event.\n\n\n\nThere will be a children's area where youngsters can create their own cards with original messages for our troops. Anyone is welcome to create a card. The cards will be distributed by the American Red Cross no later than December 7\, 2012.
X-ALT-DESC;FMTTYPE=text/html:Each year the American Red Cross collects cards between October and early December and then distributes them at military installations\, veterans hospitals\, and in other locations wherever the U.S. Armed Forces can be found. The cards and personal messages\, sent by tens of thousands of Americans\, provide a welcome &ldquo\;touch of home&rdquo\; for our troops during the holiday season.<br />\n<br />\nThis year\, for the first time\, the American Red Cross will have a table set up for mountain-area&nbsp\;residents to&nbsp\;bring in cards to send\, sign&nbsp\;cards on-site or make an original card to send to our troops at St. Laurence Episcopal Church\, 26812 Barkley Road\, Conifer\, from 9 a.m. to 3 p.m. on Saturday\, November 3 in conjunction with the church&#39\;s ChristmasFest event.<br />\n<br />\nThere will be a children&#39\;s area where youngsters can create their own cards with original messages for our troops. Anyone is welcome to create a card. The cards will be distributed by the American Red Cross no later than December 7\, 2012.<br />\n
LOCATION:St. Laurence Episcopal Church\, 26812 Barkley Rd.\, Conifer\, CO 80433
UID:e.692.1359
SEQUENCE:3
DTSTAMP:20260424T160458Z
URL:https://business.goconifer.com/events/details/holiday-mail-for-heroes-11-03-2012-1359
END:VEVENT

END:VCALENDAR
