BEGIN:VCALENDAR
VERSION:2.0
PRODID:-//ChamberMaster//Event Calendar 2.0//EN
METHOD:PUBLISH
X-PUBLISHED-TTL:P3D
REFRESH-INTERVAL:P3D
CALSCALE:GREGORIAN
BEGIN:VEVENT
DTSTART:20131116T160000Z
DTEND:20131116T230000Z
X-MICROSOFT-CDO-ALLDAYEVENT:FALSE
SUMMARY:Holiday Extravaganza--Fundraiser for Boys & Girls Club of South Park
DESCRIPTION:Come to the 2013 Holiday Extravaganza at Platte Canyon High School on Saturday\, November 16th from 9am-4pm\, benefitting the Boys & Girls Club of South Park (serving all of Park County and Mountain JeffCo). There will be arts and crafts from across the region\, food\, a holiday bake sale\, a great silent auction\, a kids? area with games/movies\, as well as live entertainment and a visit from Santa (who will be there from 11am-2pm)! What a great way to get holiday shopping done in one easy place while supporting local businesses as well as helping the children in our mountain community to have a safe\, fun place to learn and grow through supporting the Boys & Girls Club of South Park!
X-ALT-DESC;FMTTYPE=text/html:Come to the 2013 Holiday Extravaganza at Platte Canyon High School on Saturday\, November 16th from 9am-4pm\, benefitting the Boys &amp\; Girls Club of South Park (serving all of Park County and Mountain JeffCo). There will be arts and crafts from across the region\, food\, a holiday bake sale\, a great silent auction\, a kids? area with games/movies\, as well as live entertainment and a visit from Santa (who will be there from 11am-2pm)! What a great way to get holiday shopping done in one easy place while supporting local businesses as well as helping the children in our mountain community to have a safe\, fun place to learn and grow through supporting the Boys &amp\; Girls Club of South Park! 
LOCATION:Platte Canyon High School 57393 US Hwy 285 Bailey\, CO 80421
UID:e.692.1578
SEQUENCE:3
DTSTAMP:20260423T213138Z
URL:https://business.goconifer.com/events/details/holiday-extravaganza-fundraiser-for-boys-girls-club-of-south-park-11-16-2013-1578
END:VEVENT

END:VCALENDAR
