BEGIN:VCALENDAR
VERSION:2.0
PRODID:-//ChamberMaster//Event Calendar 2.0//EN
METHOD:PUBLISH
X-PUBLISHED-TTL:P3D
REFRESH-INTERVAL:P3D
CALSCALE:GREGORIAN
BEGIN:VEVENT
DTSTART:20141122T160000Z
DTEND:20141122T230000Z
X-MICROSOFT-CDO-ALLDAYEVENT:FALSE
SUMMARY:Holiday Extravaganza for Boys & Girls Club of South Park
DESCRIPTION:This is the third annual Holiday Extravaganza benefiting the Boys & Girls Club of South Park. This is a free event where you can go holiday shopping with many of our very talented local crafters. There will be holiday entertainment\, a silent auction\, Santa (from 10-2) and this year we will be having Foods and Baked Goods from Around the World! Come stock up for the holidays and make your cooking light and easy! Proceeds benefit our local youth at the Boys & Girls Club of South Park that serves all of Park County as well as mountain Jefferson County. Bring your family\, a neighbor or friends! A good time will surely be had by all! Looking forward to seeing you there!
X-ALT-DESC;FMTTYPE=text/html:This is the third annual Holiday Extravaganza benefiting the Boys &amp\; Girls Club of South Park. This is a free event where you can go holiday shopping with many of our very talented local crafters. There will be holiday entertainment\, a silent auction\, Santa (from 10-2) and this year we will be having Foods and Baked Goods from Around the World! Come stock up for the holidays and make your cooking light and easy! Proceeds benefit our local youth at the Boys &amp\; Girls Club of South Park that serves all of Park County as well as mountain Jefferson County. Bring your family\, a neighbor or friends! A good time will surely be had by all! Looking forward to seeing you there!
LOCATION:Platte Canyon High School
UID:e.692.5398
SEQUENCE:3
DTSTAMP:20260423T044852Z
URL:https://business.goconifer.com/events/details/holiday-extravaganza-for-boys-girls-club-of-south-park-11-22-2014-5398
END:VEVENT

END:VCALENDAR
