BEGIN:VCALENDAR
VERSION:2.0
PRODID:-//ChamberMaster//Event Calendar 2.0//EN
METHOD:PUBLISH
X-PUBLISHED-TTL:P3D
REFRESH-INTERVAL:P3D
CALSCALE:GREGORIAN
BEGIN:VEVENT
DTSTART:20160616T160000Z
DTEND:20160616T180000Z
X-MICROSOFT-CDO-ALLDAYEVENT:FALSE
SUMMARY:History Hike to the Cabin District
DESCRIPTION:History Hike to the Cabin District 10am\n\nJoin a guided hike to the historic cabin district and learn the history of the Staunton family and other colorful characters who played a role in the history of the area.
X-ALT-DESC;FMTTYPE=text/html:<strong><span style="color:#008800">History Hike to the Cabin District 10am</span></strong><br />\n<em>Join a guided hike to the historic cabin district and learn the history of the Staunton family and other colorful characters who played a role in the history of the area.</em>
LOCATION:Staunton State Park\, 12102 S Elk Creek Rd\, Pine CO 80470
UID:e.692.18848
SEQUENCE:3
DTSTAMP:20260421T211344Z
URL:https://business.goconifer.com/events/details/history-hike-to-the-cabin-district-06-16-2016-18848
END:VEVENT

END:VCALENDAR
