BEGIN:VCALENDAR
VERSION:2.0
PRODID:-//ChamberMaster//Event Calendar 2.0//EN
METHOD:PUBLISH
X-PUBLISHED-TTL:P3D
REFRESH-INTERVAL:P3D
CALSCALE:GREGORIAN
BEGIN:VEVENT
DTSTART:20160714T160000Z
DTEND:20160714T170000Z
X-MICROSOFT-CDO-ALLDAYEVENT:FALSE
SUMMARY:History Hike to Staunton State Park's Cabin District
DESCRIPTION:Join a guided hike to the historic cabin district and learn the history of  the Staunton family and other colorful characters who played a role in the history of the area.
X-ALT-DESC;FMTTYPE=text/html:Join a guided hike to the historic cabin district and learn the history of&nbsp\; the Staunton family and other colorful characters who played a role in the history of the area.
LOCATION:Staunton State Park\, 12102 S Elk Creek Rd\, Pine CO 80470
UID:e.692.18916
SEQUENCE:3
DTSTAMP:20260421T201014Z
URL:https://business.goconifer.com/events/details/history-hike-to-staunton-state-park-s-cabin-district-07-14-2016-18916
END:VEVENT

END:VCALENDAR
