BEGIN:VCALENDAR
VERSION:2.0
PRODID:-//ChamberMaster//Event Calendar 2.0//EN
METHOD:PUBLISH
X-PUBLISHED-TTL:P3D
REFRESH-INTERVAL:P3D
CALSCALE:GREGORIAN
BEGIN:VEVENT
DTSTART:20250802T140000Z
DTEND:20250802T160000Z
X-MICROSOFT-CDO-ALLDAYEVENT:FALSE
SUMMARY:Highway 285 Clean up
DESCRIPTION:Help us to clean up Highway 285! \n\nMeet at Aspen Park RTD Park N Ride at 8:00 am\n\nWear boots\, gloves\, hat and sunscreen.\n\nBring your grabber if you have one.\n\n\n\nSnacks and water provided by Mike Sadowski of Aslan Home Lending\n\n\n\nJoin us for a free pizza party afterward at Snowpack!
X-ALT-DESC;FMTTYPE=text/html:<span style="font-size:14px\;"><strong>Help us to clean up Highway 285!&nbsp\;<br />\nMeet at Aspen Park RTD Park N Ride at 8:00 am<br />\nWear boots\, gloves\, hat and sunscreen.<br />\nBring your grabber if you have one.<br />\n<br />\nSnacks and water provided by Mike Sadowski of Aslan Home Lending<br />\n<br />\nJoin us for a free pizza party afterward at Snowpack!</strong></span><br />\n&nbsp\;
LOCATION:Meet at Aspen Park RTD Park N Ride at 8:00 am
UID:e.692.46830
SEQUENCE:3
DTSTAMP:20260425T231855Z
URL:https://business.goconifer.com/events/details/highway-285-clean-up-46830
END:VEVENT

END:VCALENDAR
