BEGIN:VCALENDAR
VERSION:2.0
PRODID:-//ChamberMaster//Event Calendar 2.0//EN
METHOD:PUBLISH
X-PUBLISHED-TTL:P3D
REFRESH-INTERVAL:P3D
CALSCALE:GREGORIAN
BEGIN:VEVENT
DTSTART:20160123T200000Z
DTEND:20160123T213000Z
X-MICROSOFT-CDO-ALLDAYEVENT:FALSE
SUMMARY:Healthy Wealthy Women
DESCRIPTION:Tired?   Stressed?    Overwhelmed?\n\nDon't Know Where to Start?\n\nHealth and Wealth explained with the help of Laura Kilty "Hot Flash Hero"  and Pat Frederiksen "Retirement Income\, Social Security and Medicare Specialist."  Invest your time only and learn strategies for a happier life through better health and better financial options.\n\nRSVP please 303-919-1020
X-ALT-DESC;FMTTYPE=text/html:Tired?&nbsp\;&nbsp\; Stressed?&nbsp\;&nbsp\;&nbsp\; Overwhelmed?<br />\nDon&#39\;t Know Where to Start?<br />\nHealth and Wealth explained with the help of&nbsp\;Laura Kilty &quot\;Hot Flash Hero&quot\; &nbsp\;and Pat Frederiksen &quot\;Retirement Income\, Social Security and Medicare Specialist.&quot\;&nbsp\; Invest your time only and learn strategies for a happier life through better health and better financial options.<br />\nRSVP please 303-919-1020<br />\n&nbsp\;
LOCATION:1st Bank in Belmar\, 550 S. Wadsworth\, Lakewood 80226
UID:e.692.17053
SEQUENCE:3
DTSTAMP:20260422T054609Z
URL:https://business.goconifer.com/events/details/healthy-wealthy-women-01-23-2016-17053
END:VEVENT

END:VCALENDAR
