BEGIN:VCALENDAR
VERSION:2.0
PRODID:-//ChamberMaster//Event Calendar 2.0//EN
METHOD:PUBLISH
X-PUBLISHED-TTL:P3D
REFRESH-INTERVAL:P3D
CALSCALE:GREGORIAN
BEGIN:VEVENT
DTSTART:20260423T200000Z
DTEND:20260423T210000Z
X-MICROSOFT-CDO-ALLDAYEVENT:FALSE
SUMMARY:Health and Wellness Power Group
DESCRIPTION:This is a collaborative group of health and wellness providers who come together to foster a supportive community within the Chamber. It is a great opportunity to actively engage in discussions\, share best practices\, and work together to develop strategies to enhance your services and the collective impact on the community.\n\n\n\nThe time and location may change each month.
X-ALT-DESC;FMTTYPE=text/html:<span style="color: rgb(34\, 34\, 34)\; font-family: arial\; font-size: 14px\;">This is a&nbsp\;</span><span style="font-family: arial\; font-size: 14px\; color: rgb(55\, 65\, 81)\;">collaborative group of health and wellness providers who come together to foster a supportive community within the Chamber. It is a great opportunity to actively engage in discussions\, share best practices\, and work together to develop strategies to enhance your services and the collective impact on the community.<br />\n<br />\nThe time and location may change each month.</span>
LOCATION:Conifer Foot Orthotics 11873 Springs Rd. Suite 155 Conifer\, CO 80433
UID:e.692.47463
SEQUENCE:3
DTSTAMP:20260424T095802Z
URL:https://business.goconifer.com/events/details/health-and-wellness-power-group-04-23-2026-47463
END:VEVENT

END:VCALENDAR
