BEGIN:VCALENDAR
VERSION:2.0
PRODID:-//ChamberMaster//Event Calendar 2.0//EN
METHOD:PUBLISH
X-PUBLISHED-TTL:P3D
REFRESH-INTERVAL:P3D
CALSCALE:GREGORIAN
BEGIN:VEVENT
DTSTART:20180825T230000Z
DTEND:20180826T020000Z
X-MICROSOFT-CDO-ALLDAYEVENT:FALSE
SUMMARY:Harvest of Hope
DESCRIPTION:Join us for this year's biggest fundraiser for The Yellow House! Come support mountain area older adults and have a great time! The event features local food & entertainment and a silent auction. Live music this year is by Breedin' Hearts\, the new band by ex-Kamikazi Klone Jimy Murphy\, the legendary Joe Bye\, Viloinist Extraordinaire Guy Tittes and Maestro Charlie Provenza. Included in your ticket are wine and beer and delicious food by La Cuisine of Evergreen. Great variety of silent auction items available. Shuttle service will be provided free of charge from Church of the Hills. Get your tickets today: http://harvestofhope2018.eventbrite.com $35.00 per person (60 or over? Contact us or stop by to get discounted tickets at $30.00.) Questions? Nancy Tzeng 303-674-2843 or ntzeng@srcaging.org\, SRC-Evergreen\, 5120 Hwy 73\, Evergreen\, CO\, 80439. All proceeds go to support programs at SRC-Evergreen.
X-ALT-DESC;FMTTYPE=text/html:<span style="color:rgb(56\, 56\, 56)\; font-family:gotham\,helvetica\,arial\,sans-serif\; font-size:14px">Join us for this year&#39\;s biggest fundraiser for The Yellow House! Come support mountain area older adults and have a great time! The event features local food &amp\; entertainment and a silent auction. Live music this year is by Breedin&#39\; Hearts\, the new band by ex-Kamikazi Klone Jimy Murphy\, the legendary Joe Bye\, Viloinist Extraordinaire Guy Tittes and Maestro Charlie Provenza. Included in your ticket are wine and beer and delicious food by La Cuisine of Evergreen. Great variety of silent auction items available. Shuttle service will be provided free of charge from Church of the Hills. Get your tickets today: http://harvestofhope2018.eventbrite.com $35.00 per person (60 or over? Contact us or stop by to get discounted tickets at $30.00.) Questions? Nancy Tzeng 303-674-2843 or ntzeng@srcaging.org\, SRC-Evergreen\, 5120 Hwy 73\, Evergreen\, CO\, 80439. All proceeds go to support programs at SRC-Evergreen.</span>
LOCATION:SRC-Evergreen (The Yellow House) 5120 Highway 73\, Evergreen\, CO\, 80439
UID:e.692.26474
SEQUENCE:3
DTSTAMP:20260420T233029Z
URL:https://business.goconifer.com/events/details/harvest-of-hope-26474
END:VEVENT

END:VCALENDAR
