BEGIN:VCALENDAR
VERSION:2.0
PRODID:-//ChamberMaster//Event Calendar 2.0//EN
METHOD:PUBLISH
X-PUBLISHED-TTL:P3D
REFRESH-INTERVAL:P3D
CALSCALE:GREGORIAN
BEGIN:VEVENT
DTSTART:20121201T160000Z
DTEND:20121202T020000Z
X-MICROSOFT-CDO-ALLDAYEVENT:FALSE
SUMMARY:Haley's Closet & Little Britches Boutique Grand Re-Opening!
DESCRIPTION:We would like to invite you to attend our Grand Re-Opening of Haley's Closet and Little Britches Boutique. We will have our celebration and sales before\, during and after the Conifer Christmas Parade Saturday December 1st. \n	\n		 \n	\n		We have added a lot of new lines to our existing inventory which includes: Lazy Ones Pajamas\, Jelly the Pug\, Woodwick Candles\, Robin Clayton Designs\, Milagro Skin Health and much more! We also have a lot of new Fall and Winter consignment clothing\, shoes and accessories that have been flowing in daily. \n	\n		 \n	\n		Don't forget that we also carry Men's Clothing as well!!! \n	\n		 \n	\n		Haley's Closet & Little Britches Boutique moved both stores on October 20th 2012. We are now located at 26437 Conifer Rd. (just 2 blocks south of where we used to be located\, and now next door to Peak Academy of Dance) on the Frontage road of Hwy 285. \n	\n		 \n	\n		Come in anytime\, but make sure you stop in on our Grand Re-Opening Day to take advantage of our great sales just in time for Christmas!
X-ALT-DESC;FMTTYPE=text/html:<br />\n<div class="event_day_description">\n	<p>\n		<span style="font-size: 14px"><span style="font-family: comic sans ms">We would like to invite you to attend our Grand Re-Opening of Haley&#39\;s Closet and Little Britches Boutique. We will have our celebration and sales before\, during and after the Conifer Christmas Parade Saturday December 1st. </span></span></p>\n	<p>\n		&nbsp\;</p>\n	<p>\n		<span style="font-size: 14px"><span style="font-family: comic sans ms">We have added a lot of new lines to our existing inventory which includes: Lazy Ones Pajamas\, Jelly the Pug\, Woodwick Candles\, Robin Clayton Designs\, Milagro Skin Health and much more! We also have a lot of new Fall and Winter consignment clothing\, shoes and accessories that have been flowing in daily. </span></span></p>\n	<p>\n		&nbsp\;</p>\n	<p>\n		<span style="font-size: 14px"><span style="font-family: comic sans ms">Don&#39\;t forget that we also carry Men&#39\;s Clothing as well!!! </span></span></p>\n	<p>\n		&nbsp\;</p>\n	<p>\n		<span style="font-size: 14px"><span style="font-family: comic sans ms">Haley&#39\;s Closet &amp\; Little Britches Boutique moved both stores on October 20th 2012. We are now located at 26437 Conifer Rd. (just 2 blocks south of where we used to be located\, and now next door to Peak Academy of Dance) on the Frontage road of Hwy 285. </span></span></p>\n	<p>\n		&nbsp\;</p>\n	<p>\n		<span style="font-size: 14px"><span style="font-family: comic sans ms">Come in anytime\, but make sure you stop in on our Grand Re-Opening Day to take advantage of our great sales just in time for Christmas!</span></span></p>\n</div>\n
LOCATION:Haley's Closet\, 26437 Conifer Rd. (Aspen Park\, Hwy 285 Frontage Road).
UID:e.692.1385
SEQUENCE:3
DTSTAMP:20260424T132608Z
URL:https://business.goconifer.com/events/details/haley-s-closet-little-britches-boutique-grand-re-opening-12-01-2012-1385
END:VEVENT

END:VCALENDAR
