BEGIN:VCALENDAR
VERSION:2.0
PRODID:-//ChamberMaster//Event Calendar 2.0//EN
METHOD:PUBLISH
X-PUBLISHED-TTL:P3D
REFRESH-INTERVAL:P3D
CALSCALE:GREGORIAN
BEGIN:VEVENT
DTSTART:20121123T150000Z
DTEND:20121124T010000Z
X-MICROSOFT-CDO-ALLDAYEVENT:FALSE
SUMMARY:Haley's Closet & Little Britches Boutique "Black Friday Sales"
DESCRIPTION:Haley's Closet & Little Britches Boutique Black Friday Sales!\n\nAll day Sales starting at 8:00 AM\n\n\n\nHaley's Closet & Little Britches Boutique will be open on "Black Friday" November 23rd from 8am - 6pm.\n\n\n\nOur sales will begin with 25% Off Your Entire Purchase from 8am-10am\, 15% Off Your Entire Purchase from 10am-12pm & 10% Off Your Entire Purchase from 12pm-6pm.\n\n\n\nThis is a great time to stock up on gifts for Christmas...\n\n\n\nWe carry new lines like Chamilia Beads\, Melissa & Doug\, Lazy Ones Pajamas\, Jelly the Pug\, Woodwick Candles and much more!\n\n\n\nWe have a great variety of Men's clothing too!!!!\n\n\n\nDon't forget\, we have moved to our new location\, just 2 blocks south from where we were located previously.  We are now next door to Peak Academy of Dance (still on Hwy 285 frontage road).\n\n \n\nHappy Thanksgiving from all of us at Haley's Closet and Little Britches Boutique!
X-ALT-DESC;FMTTYPE=text/html:<span style="font-size: 14px"><span style="font-family: comic sans ms"><b>Haley&#39\;s Closet &amp\; Little Britches Boutique Black Friday Sales!</b><br />\nAll day Sales starting at 8:00 AM<br />\n<br />\nHaley&#39\;s Closet &amp\; Little Britches Boutique will be open on &quot\;Black Friday&quot\; November 23rd from 8am - 6pm.<br />\n<br />\nOur sales will begin with 25% Off Your Entire Purchase from 8am-10am\, 15% Off Your Entire Purchase from 10am-12pm &amp\; 10% Off Your Entire Purchase from 12pm-6pm.<br />\n<br />\nThis is a great time to stock up on gifts for Christmas...<br />\n<br />\nWe carry new lines like Chamilia Beads\, Melissa &amp\; Doug\, Lazy Ones Pajamas\, Jelly the Pug\, Woodwick Candles and much more!<br />\n<br />\nWe have a great variety of Men&#39\;s clothing too!!!!<br />\n<br />\nDon&#39\;t forget\, we have moved to our new location\, just 2 blocks south from where we were located previously.&nbsp\; We are now next door to Peak Academy of Dance (still on Hwy 285 frontage road).<br />\n&nbsp\;<br />\nHappy Thanksgiving from all of us at Haley&#39\;s Closet and Little Britches Boutique!</span></span><br />\n
LOCATION:Haley's Closet\, 26437 Conifer Rd. (In Aspen Park\, Hwy 285 Frontage Road)
UID:e.692.1384
SEQUENCE:3
DTSTAMP:20260424T160856Z
URL:https://business.goconifer.com/events/details/haley-s-closet-little-britches-boutique-black-friday-sales-11-23-2012-1384
END:VEVENT

END:VCALENDAR
