BEGIN:VCALENDAR
VERSION:2.0
PRODID:-//ChamberMaster//Event Calendar 2.0//EN
METHOD:PUBLISH
X-PUBLISHED-TTL:P3D
REFRESH-INTERVAL:P3D
CALSCALE:GREGORIAN
BEGIN:VEVENT
DTSTART:20160130T023000Z
DTEND:20160130T040000Z
X-MICROSOFT-CDO-ALLDAYEVENT:FALSE
SUMMARY:Grateful Dead Music Shabbat
DESCRIPTION:For our Mostly Music Shabbats\, we forego a traditional Torah reading in favor of altering popular songs with Jewish liturgy. The result is an event that appeals to Jews and non-Jews alike! Our Grateful Dead Shabbat will include the musical stylings of Hal Aqua & Friends with support from the CBE choir. Food afterwards is provided by Gabe Grunspan in honor of his daughter's Bat Mitzvah. Come to CBE for an event you won't want to miss!
X-ALT-DESC;FMTTYPE=text/html:<span style="font-family:trebuchet ms\,verdana\,helvetica\,sans-serif\; font-size:13.3333px">For our Mostly Music Shabbats\, we forego a traditional Torah reading in favor of altering popular songs with Jewish liturgy. The result is an event that appeals to Jews and non-Jews alike! Our Grateful Dead Shabbat will include the musical stylings of&nbsp\;Hal Aqua &amp\; Friends with support from the CBE choir. Food afterwards is provided by Gabe Grunspan in honor of his daughter&#39\;s Bat Mitzvah. Come to CBE for an event you won&#39\;t want to miss!</span>
LOCATION:Congregation Beth Evergreen
UID:e.692.14185
SEQUENCE:3
DTSTAMP:20260422T054120Z
URL:https://business.goconifer.com/events/details/grateful-dead-music-shabbat-01-29-2016-14185
END:VEVENT

END:VCALENDAR
