BEGIN:VCALENDAR
VERSION:2.0
PRODID:-//ChamberMaster//Event Calendar 2.0//EN
METHOD:PUBLISH
X-PUBLISHED-TTL:P3D
REFRESH-INTERVAL:P3D
CALSCALE:GREGORIAN
BEGIN:VEVENT
DTSTART:20100911T160000Z
DTEND:20100911T170000Z
X-MICROSOFT-CDO-ALLDAYEVENT:FALSE
SUMMARY:Grandparents and Special People Day Celebration
DESCRIPTION:Bring along your grandparents or other special people in your life and let them experience the world through your eyes! Sing songs\, play games\, enjoy circle time\, make playdough\, and create a special craft together.
X-ALT-DESC;FMTTYPE=text/html:Bring along your grandparents or other special people in your life and let them experience the world through your eyes! Sing songs\, play games\, enjoy circle time\, make playdough\, and create a special craft together. 
LOCATION:Mountain Resource Center 11030 Kitty Drive Conifer\, CO 80433
UID:e.692.430
SEQUENCE:3
DTSTAMP:20260424T170653Z
URL:https://business.goconifer.com/events/details/grandparents-and-special-people-day-celebration-09-11-2010-430
END:VEVENT

END:VCALENDAR
