BEGIN:VCALENDAR
VERSION:2.0
PRODID:-//ChamberMaster//Event Calendar 2.0//EN
METHOD:PUBLISH
X-PUBLISHED-TTL:P3D
REFRESH-INTERVAL:P3D
CALSCALE:GREGORIAN
BEGIN:VEVENT
DTSTART:20140301T003000Z
DTEND:20140301T033000Z
X-MICROSOFT-CDO-ALLDAYEVENT:FALSE
SUMMARY:Grand Opening Event
DESCRIPTION:Grand Opening Party!\n\nINTRODUCING OWNER & MEDICAL DIRECTOR\n\nDR. JACK ZAMORA\, MD\n\nFRIDAY\, FEBRUARY 28\, 2014    5:30 PM - 8:30 PM\n\n\n\nMeet Dr. Zamora & Staff   Enjoy Bites\, Sips & Treats   Enter for Giveaways\n\nThe first 20 people to RSVP will receive a FREE SkinMedica Gift Bag when they arrive! Click here to RSVP and save your spot!\n\n\n\nLet's Celebrate!\n\n\n\nDr. Jack Zamora is a Board Certified\n\nOculofacial Plastic Surgeon specializing in Blepharoplasty\, the popular eyelid lift that improves the look of upper and lower lids\, instantly rejuvenating your appearance. This state of the art surgery is performed right in our Evergreen office under local anesthesia and with expert care. Dr. Zamora is known for his commitment to follow through\, guiding his patients from their first consultation through their healing process.\n\n\n\nDR. ZAMORA & STAFF NOW OFFER\n\n  Botox and Juvederm\n\n  SkinMedica Product Line\n\n  CO2 Laser and FotoFacial\n\n  Medical Grade Chemical Peels\n\n  Dermapen MicroNeedling\n\n  Eyelid Surgery  \n\n  Fat Transfer Filler\n\n  Brilliant Distinctions Program\n\n  Open Wednesday\, Thursday\, Friday\n\nand the 3rd Saturday of the month\n\n\n\nwww.drzamoraevergreen.com   303-670-7755\n\n27905 Meadow Drive\, Ste. 11\, Evergreen
X-ALT-DESC;FMTTYPE=text/html:Grand Opening Party!<br />\nINTRODUCING OWNER &amp\; MEDICAL DIRECTOR<br />\nDR. JACK ZAMORA\, MD<br />\nFRIDAY\, FEBRUARY 28\, 2014&nbsp\; &bull\; 5:30 PM - 8:30 PM<br />\n<br />\nMeet Dr. Zamora &amp\; Staff &bull\; Enjoy Bites\, Sips &amp\; Treats &bull\; Enter for Giveaways<br />\nThe first 20 people to RSVP will receive a FREE SkinMedica Gift Bag when they arrive! Click here to RSVP and save your spot!<br />\n<br />\nLet&rsquo\;s Celebrate!<br />\n<br />\nDr. Jack Zamora is a Board Certified<br />\nOculofacial Plastic Surgeon specializing in Blepharoplasty\, the popular eyelid lift that improves the look of upper and lower lids\, instantly rejuvenating your appearance. This state of the art surgery is performed right in our Evergreen office under local anesthesia and with expert care. Dr. Zamora is known for his commitment to follow through\, guiding his patients from their first consultation through their healing process.<br />\n<br />\nDR. ZAMORA &amp\; STAFF NOW OFFER<br />\n&bull\; Botox and Juvederm<br />\n&bull\; SkinMedica Product Line<br />\n&bull\; CO2 Laser and FotoFacial<br />\n&bull\; Medical Grade Chemical Peels<br />\n&bull\; Dermapen MicroNeedling<br />\n&bull\; Eyelid Surgery&nbsp\;&nbsp\;<br />\n&bull\; Fat Transfer Filler<br />\n&bull\; Brilliant Distinctions Program<br />\n&bull\; Open Wednesday\, Thursday\, Friday<br />\nand the 3rd Saturday of the month<br />\n<br />\nwww.drzamoraevergreen.com &bull\; 303-670-7755<br />\n27905 Meadow Drive\, Ste. 11\, Evergreen
LOCATION:27905 Meadow Drive\, Evergreen
UID:e.692.1775
SEQUENCE:3
DTSTAMP:20260423T172045Z
URL:https://business.goconifer.com/events/details/grand-opening-event-02-28-2014-1775
END:VEVENT

END:VCALENDAR
