BEGIN:VCALENDAR
VERSION:2.0
PRODID:-//ChamberMaster//Event Calendar 2.0//EN
METHOD:PUBLISH
X-PUBLISHED-TTL:P3D
REFRESH-INTERVAL:P3D
CALSCALE:GREGORIAN
BEGIN:VEVENT
DTSTART:20160416T010000Z
DTEND:20160416T030000Z
X-MICROSOFT-CDO-ALLDAYEVENT:FALSE
SUMMARY:Gong & Himalyan Bowl Sound Journey with Crown of Eternity
DESCRIPTION:Enter a cosmic journey as you bathe in waves of sound from multiple gongs\, bells and metal singing bowls. The deep complex harmonics of multiple gongs quickly silence the mind and entrain the brain into a spontaneous state of deep meditation. The rhythmic sound oscillations of therapy grade Himalayan bowls placed on or around the body penetrate into the tissues and are often experienced as a full body sound massage that allows us to let go letting go of stress\, worries\, anxieties\, doubt\, fears and feelings that have a negative effect on our health and life. Listeners often describe out of body experiences\, seeing beautiful colors behind their eyes\, past life impressions\, expanded awareness and higher states of consciousness. We will begin to prepare the body to enter a state of healing and receptivity through the sacred practices of guided meditation\, breathwork\, or deep listening. We will then relax deeply to the sounds of multiple gongs for a vibrational experience like no other!!!\nPlease bring a yoga mat\, blanket or cushion for your comfort for an extended period of lying on the floor.\n\n\n\nWhen: Friday\, April 15th\, 7-9pm\n\nInvestment: $20 pre-registered\, $25 at the door - Please pre-register as space is limited!!\n\nRegister: On the Link Below\, Call us at (303) 816-0429\, -OR- Email us at info@taspens.com
X-ALT-DESC;FMTTYPE=text/html:Enter a cosmic journey as you bathe in waves of sound from multiple gongs\, bells and metal singing bowls. The deep complex harmonics of multiple gongs quickly silence the mind and entrain the brain into a spontaneous state of deep meditation. The rhythmic sound oscillations of therapy grade Himalayan bowls placed on or around the body penetrate into the tissues and are often experienced as a full body sound massage that allows us to let go&mdash\;letting go of stress\, worries\, anxieties\, doubt\, fears and feelings that have a negative effect on our health and life. Listeners often describe out of body experiences\, seeing beautiful colors behind their eyes\, past life impressions\, expanded awareness and higher states of consciousness. We will begin to prepare the body to enter a state of healing and receptivity through the sacred practices of guided meditation\, breathwork\, or deep listening. We will then relax deeply to the sounds of multiple gongs for a vibrational experience like no other!!!\n<p>Please bring a yoga mat\, blanket or cushion for your comfort for an extended period of lying on the floor.</p>\n\n<p><br />\n<span style="color:#008080"><strong>When:</strong></span> Friday\, April 15th\, 7-9pm</p>\n\n<p><span style="color:#008080"><strong>Investment:</strong></span> $20 pre-registered\, $25 at the door - Please pre-register as space is limited!!</p>\n\n<p><span style="color:#008080"><strong>Register:</strong></span> On the Link Below\, Call us at (303) 816-0429\, -OR- Email us at <a href="mailto:info@taspens.com" target="_blank">info@taspens.com</a></p>\n
LOCATION:Taspen's Organics & Holistic Wellness Center 12424 Big Timber Drive Conifer\, CO 80433
UID:e.692.17212
SEQUENCE:3
DTSTAMP:20260422T001353Z
URL:https://business.goconifer.com/events/details/gong-himalyan-bowl-sound-journey-with-crown-of-eternity-04-15-2016-17212
END:VEVENT

END:VCALENDAR
