BEGIN:VCALENDAR
VERSION:2.0
PRODID:-//ChamberMaster//Event Calendar 2.0//EN
METHOD:PUBLISH
X-PUBLISHED-TTL:P3D
REFRESH-INTERVAL:P3D
CALSCALE:GREGORIAN
BEGIN:VEVENT
DTSTART:20141030T230000Z
DTEND:20141031T030000Z
X-MICROSOFT-CDO-ALLDAYEVENT:FALSE
SUMMARY:Goldilocks and the Little Bear
DESCRIPTION:Annual costume event for the community to raise funds for our Libraries. The theme is your favorite book or character. Silent auction items! Dinner\, prizes and a live band. At the Little Bear in downtown Evergreen.
X-ALT-DESC;FMTTYPE=text/html:Annual costume event for the community to raise funds for our Libraries. The theme is your favorite book or character. Silent auction items! Dinner\, prizes and a live band. At the Little Bear in downtown Evergreen.
LOCATION:Little Bear Saloon
UID:e.692.1787
SEQUENCE:3
DTSTAMP:20260423T062214Z
URL:https://business.goconifer.com/events/details/goldilocks-and-the-little-bear-10-30-2014-1787
END:VEVENT

END:VCALENDAR
