BEGIN:VCALENDAR
VERSION:2.0
PRODID:-//ChamberMaster//Event Calendar 2.0//EN
METHOD:PUBLISH
X-PUBLISHED-TTL:P3D
REFRESH-INTERVAL:P3D
CALSCALE:GREGORIAN
BEGIN:VEVENT
DTSTART:20140406T190000Z
DTEND:20140406T210000Z
X-MICROSOFT-CDO-ALLDAYEVENT:FALSE
SUMMARY:Gardening at Altitude
DESCRIPTION:The Conifer Historical Society and Museum presents:\n\nGardening at Altitude\n\nHave you ever wondered how to get your high altitude garden to flourish?\n\nCome hear from experienced gardeners who will share what to plant and when to plant it.
X-ALT-DESC;FMTTYPE=text/html:<p align="LEFT" style="margin-bottom: 0.2in">The Conifer Historical Society and Museum presents:<br />\n<span style="font-size:16px\;"><span style="font-family: arial\;"><strong>Gardening at Altitude</strong></span></span><br />\nHave you ever wondered how to get your high altitude garden to flourish?<br />\nCome hear from experienced gardeners who will share what to plant and when to plant it.</p>\n
LOCATION:The Little White Schoolhouse\, 26951 Barkley Road\, Conifer\, CO 80433
UID:e.692.2149
SEQUENCE:3
DTSTAMP:20260423T142827Z
URL:https://business.goconifer.com/events/details/gardening-at-altitude-04-06-2014-2149
END:VEVENT

END:VCALENDAR
