BEGIN:VCALENDAR
VERSION:2.0
PRODID:-//ChamberMaster//Event Calendar 2.0//EN
METHOD:PUBLISH
X-PUBLISHED-TTL:P3D
REFRESH-INTERVAL:P3D
CALSCALE:GREGORIAN
BEGIN:VEVENT
DTSTART:20141107T170000Z
DTEND:20141109T000000Z
X-MICROSOFT-CDO-ALLDAYEVENT:FALSE
SUMMARY:Fundraiser to Support the West Jeff Elementary PTA.
DESCRIPTION:Mention West Jeff Elementary and we'll donate 10% of the sales to the PTA.
X-ALT-DESC;FMTTYPE=text/html:Mention West Jeff Elementary and we&#39\;ll donate 10% of the sales to the PTA.
LOCATION:Blue Spruce Toys
UID:e.692.5408
SEQUENCE:3
DTSTAMP:20260423T044143Z
URL:https://business.goconifer.com/events/details/fundraiser-to-support-the-west-jeff-elementary-pta-11-07-2014-5408
END:VEVENT

END:VCALENDAR
