BEGIN:VCALENDAR
VERSION:2.0
PRODID:-//ChamberMaster//Event Calendar 2.0//EN
METHOD:PUBLISH
X-PUBLISHED-TTL:P3D
REFRESH-INTERVAL:P3D
CALSCALE:GREGORIAN
BEGIN:VEVENT
DTSTART:20141017T160000Z
DTEND:20141018T230000Z
X-MICROSOFT-CDO-ALLDAYEVENT:FALSE
SUMMARY:Fundraiser for TRI-M (Conifer High's Music Honor Society) at Blue Spruce Toys
DESCRIPTION:10% sales to TRI-M
X-ALT-DESC;FMTTYPE=text/html:10% sales to TRI-M
LOCATION:Blue Spruce Toys Green Valley Center 11873 Springs Rd\, Conifer
UID:e.692.3374
SEQUENCE:3
DTSTAMP:20260423T062557Z
URL:https://business.goconifer.com/events/details/fundraiser-for-tri-m-conifer-high-s-music-honor-society-at-blue-spruce-toys-10-17-2014-3374
END:VEVENT

END:VCALENDAR
